BEGIN:VCALENDAR
VERSION:2.0
PRODID:-//The Sailing Museum &amp; National Sailing Hall of Fame - ECPv6.15.17.1//NONSGML v1.0//EN
CALSCALE:GREGORIAN
METHOD:PUBLISH
X-ORIGINAL-URL:https://thesailingmuseum.org
X-WR-CALDESC:Events for The Sailing Museum &amp; National Sailing Hall of Fame
REFRESH-INTERVAL;VALUE=DURATION:PT1H
X-Robots-Tag:noindex
X-PUBLISHED-TTL:PT1H
BEGIN:VTIMEZONE
TZID:America/New_York
BEGIN:DAYLIGHT
TZOFFSETFROM:-0500
TZOFFSETTO:-0400
TZNAME:EDT
DTSTART:20250309T070000
END:DAYLIGHT
BEGIN:STANDARD
TZOFFSETFROM:-0400
TZOFFSETTO:-0500
TZNAME:EST
DTSTART:20251102T060000
END:STANDARD
BEGIN:DAYLIGHT
TZOFFSETFROM:-0500
TZOFFSETTO:-0400
TZNAME:EDT
DTSTART:20260308T070000
END:DAYLIGHT
BEGIN:STANDARD
TZOFFSETFROM:-0400
TZOFFSETTO:-0500
TZNAME:EST
DTSTART:20261101T060000
END:STANDARD
BEGIN:DAYLIGHT
TZOFFSETFROM:-0500
TZOFFSETTO:-0400
TZNAME:EDT
DTSTART:20270314T070000
END:DAYLIGHT
BEGIN:STANDARD
TZOFFSETFROM:-0400
TZOFFSETTO:-0500
TZNAME:EST
DTSTART:20271107T060000
END:STANDARD
END:VTIMEZONE
BEGIN:VEVENT
DTSTART;TZID=America/New_York:20260825T100000
DTEND;TZID=America/New_York:20260825T110000
DTSTAMP:20260419T222530
CREATED:20250707T215440Z
LAST-MODIFIED:20260205T115033Z
UID:10000218-1787652000-1787655600@thesailingmuseum.org
SUMMARY:Sensory Friendly Hour at The Sailing Museum
DESCRIPTION:Join us for a comfortable and quiet museum visit every other Tuesday morning 10am – 12pm. \nExpect friendly lighting levels and reduced screen sounds to promote a relaxing experience through our exhibition spaces. The hour is intended for people and groups with sensitive sensory processing needs. \nAll visitors and ages are welcome.
URL:https://thesailingmuseum.org/event/sensory-friendly-hour-at-the-sailing-museum/2026-08-25/
LOCATION:The Sailing Museum & National Sailing Hall of Fame\, 365 Thames St.\, Newport\, RI\, 02840\, United States
ATTACH;FMTTYPE=image/png:https://thesailingmuseum.org/wp-content/uploads/2025/07/Screenshot-2025-07-23-at-9.24.44 PM.png
ORGANIZER;CN="The Sailing Museum":MAILTO:info@thesailingmuseum.org
END:VEVENT
BEGIN:VEVENT
DTSTART;TZID=America/New_York:20260901T100000
DTEND;TZID=America/New_York:20260901T110000
DTSTAMP:20260419T222530
CREATED:20250707T215440Z
LAST-MODIFIED:20260205T115033Z
UID:10000219-1788256800-1788260400@thesailingmuseum.org
SUMMARY:Sensory Friendly Hour at The Sailing Museum
DESCRIPTION:Join us for a comfortable and quiet museum visit every other Tuesday morning 10am – 12pm. \nExpect friendly lighting levels and reduced screen sounds to promote a relaxing experience through our exhibition spaces. The hour is intended for people and groups with sensitive sensory processing needs. \nAll visitors and ages are welcome.
URL:https://thesailingmuseum.org/event/sensory-friendly-hour-at-the-sailing-museum/2026-09-01/
LOCATION:The Sailing Museum & National Sailing Hall of Fame\, 365 Thames St.\, Newport\, RI\, 02840\, United States
ATTACH;FMTTYPE=image/png:https://thesailingmuseum.org/wp-content/uploads/2025/07/Screenshot-2025-07-23-at-9.24.44 PM.png
ORGANIZER;CN="The Sailing Museum":MAILTO:info@thesailingmuseum.org
END:VEVENT
BEGIN:VEVENT
DTSTART;TZID=America/New_York:20260908T100000
DTEND;TZID=America/New_York:20260908T110000
DTSTAMP:20260419T222530
CREATED:20250707T215440Z
LAST-MODIFIED:20260205T115033Z
UID:10000220-1788861600-1788865200@thesailingmuseum.org
SUMMARY:Sensory Friendly Hour at The Sailing Museum
DESCRIPTION:Join us for a comfortable and quiet museum visit every other Tuesday morning 10am – 12pm. \nExpect friendly lighting levels and reduced screen sounds to promote a relaxing experience through our exhibition spaces. The hour is intended for people and groups with sensitive sensory processing needs. \nAll visitors and ages are welcome.
URL:https://thesailingmuseum.org/event/sensory-friendly-hour-at-the-sailing-museum/2026-09-08/
LOCATION:The Sailing Museum & National Sailing Hall of Fame\, 365 Thames St.\, Newport\, RI\, 02840\, United States
ATTACH;FMTTYPE=image/png:https://thesailingmuseum.org/wp-content/uploads/2025/07/Screenshot-2025-07-23-at-9.24.44 PM.png
ORGANIZER;CN="The Sailing Museum":MAILTO:info@thesailingmuseum.org
END:VEVENT
BEGIN:VEVENT
DTSTART;TZID=America/New_York:20260915T100000
DTEND;TZID=America/New_York:20260915T110000
DTSTAMP:20260419T222530
CREATED:20250707T215440Z
LAST-MODIFIED:20260205T115033Z
UID:10000221-1789466400-1789470000@thesailingmuseum.org
SUMMARY:Sensory Friendly Hour at The Sailing Museum
DESCRIPTION:Join us for a comfortable and quiet museum visit every other Tuesday morning 10am – 12pm. \nExpect friendly lighting levels and reduced screen sounds to promote a relaxing experience through our exhibition spaces. The hour is intended for people and groups with sensitive sensory processing needs. \nAll visitors and ages are welcome.
URL:https://thesailingmuseum.org/event/sensory-friendly-hour-at-the-sailing-museum/2026-09-15/
LOCATION:The Sailing Museum & National Sailing Hall of Fame\, 365 Thames St.\, Newport\, RI\, 02840\, United States
ATTACH;FMTTYPE=image/png:https://thesailingmuseum.org/wp-content/uploads/2025/07/Screenshot-2025-07-23-at-9.24.44 PM.png
ORGANIZER;CN="The Sailing Museum":MAILTO:info@thesailingmuseum.org
END:VEVENT
BEGIN:VEVENT
DTSTART;TZID=America/New_York:20260922T100000
DTEND;TZID=America/New_York:20260922T110000
DTSTAMP:20260419T222530
CREATED:20250707T215440Z
LAST-MODIFIED:20260205T115033Z
UID:10000222-1790071200-1790074800@thesailingmuseum.org
SUMMARY:Sensory Friendly Hour at The Sailing Museum
DESCRIPTION:Join us for a comfortable and quiet museum visit every other Tuesday morning 10am – 12pm. \nExpect friendly lighting levels and reduced screen sounds to promote a relaxing experience through our exhibition spaces. The hour is intended for people and groups with sensitive sensory processing needs. \nAll visitors and ages are welcome.
URL:https://thesailingmuseum.org/event/sensory-friendly-hour-at-the-sailing-museum/2026-09-22/
LOCATION:The Sailing Museum & National Sailing Hall of Fame\, 365 Thames St.\, Newport\, RI\, 02840\, United States
ATTACH;FMTTYPE=image/png:https://thesailingmuseum.org/wp-content/uploads/2025/07/Screenshot-2025-07-23-at-9.24.44 PM.png
ORGANIZER;CN="The Sailing Museum":MAILTO:info@thesailingmuseum.org
END:VEVENT
BEGIN:VEVENT
DTSTART;TZID=America/New_York:20260929T100000
DTEND;TZID=America/New_York:20260929T110000
DTSTAMP:20260419T222530
CREATED:20250707T215440Z
LAST-MODIFIED:20260205T115033Z
UID:10000223-1790676000-1790679600@thesailingmuseum.org
SUMMARY:Sensory Friendly Hour at The Sailing Museum
DESCRIPTION:Join us for a comfortable and quiet museum visit every other Tuesday morning 10am – 12pm. \nExpect friendly lighting levels and reduced screen sounds to promote a relaxing experience through our exhibition spaces. The hour is intended for people and groups with sensitive sensory processing needs. \nAll visitors and ages are welcome.
URL:https://thesailingmuseum.org/event/sensory-friendly-hour-at-the-sailing-museum/2026-09-29/
LOCATION:The Sailing Museum & National Sailing Hall of Fame\, 365 Thames St.\, Newport\, RI\, 02840\, United States
ATTACH;FMTTYPE=image/png:https://thesailingmuseum.org/wp-content/uploads/2025/07/Screenshot-2025-07-23-at-9.24.44 PM.png
ORGANIZER;CN="The Sailing Museum":MAILTO:info@thesailingmuseum.org
END:VEVENT
BEGIN:VEVENT
DTSTART;TZID=America/New_York:20261006T100000
DTEND;TZID=America/New_York:20261006T110000
DTSTAMP:20260419T222530
CREATED:20250707T215440Z
LAST-MODIFIED:20260205T115033Z
UID:10000224-1791280800-1791284400@thesailingmuseum.org
SUMMARY:Sensory Friendly Hour at The Sailing Museum
DESCRIPTION:Join us for a comfortable and quiet museum visit every other Tuesday morning 10am – 12pm. \nExpect friendly lighting levels and reduced screen sounds to promote a relaxing experience through our exhibition spaces. The hour is intended for people and groups with sensitive sensory processing needs. \nAll visitors and ages are welcome.
URL:https://thesailingmuseum.org/event/sensory-friendly-hour-at-the-sailing-museum/2026-10-06/
LOCATION:The Sailing Museum & National Sailing Hall of Fame\, 365 Thames St.\, Newport\, RI\, 02840\, United States
ATTACH;FMTTYPE=image/png:https://thesailingmuseum.org/wp-content/uploads/2025/07/Screenshot-2025-07-23-at-9.24.44 PM.png
ORGANIZER;CN="The Sailing Museum":MAILTO:info@thesailingmuseum.org
END:VEVENT
BEGIN:VEVENT
DTSTART;TZID=America/New_York:20261006T180000
DTEND;TZID=America/New_York:20261006T200000
DTSTAMP:20260419T222530
CREATED:20260204T121531Z
LAST-MODIFIED:20260304T204017Z
UID:10000179-1791309600-1791316800@thesailingmuseum.org
SUMMARY:2026 Hall of Fame Induction Cocktail Reception
DESCRIPTION:Save the Date! Details Coming Soon. \nThis event will be hosted at The Sailing Museum.
URL:https://thesailingmuseum.org/event/2026-hall-of-fame-induction-cocktail-reception/
LOCATION:The Sailing Museum & National Sailing Hall of Fame\, 365 Thames St.\, Newport\, RI\, 02840\, United States
ORGANIZER;CN="The Sailing Museum":MAILTO:info@thesailingmuseum.org
END:VEVENT
BEGIN:VEVENT
DTSTART;TZID=America/New_York:20261007T100000
DTEND;TZID=America/New_York:20261007T140000
DTSTAMP:20260419T222530
CREATED:20260204T121611Z
LAST-MODIFIED:20260304T204000Z
UID:10000180-1791367200-1791381600@thesailingmuseum.org
SUMMARY:2026 Hall of Fame Induction Ceremony and Luncheon
DESCRIPTION:Save the Date! Details Coming Soon. \nThis event will be held at the New York Yacht Club Harbour Court.
URL:https://thesailingmuseum.org/event/2026-hall-of-fame-induction-ceremony-and-luncheon/
LOCATION:The Sailing Museum & National Sailing Hall of Fame\, 365 Thames St.\, Newport\, RI\, 02840\, United States
ORGANIZER;CN="The Sailing Museum":MAILTO:info@thesailingmuseum.org
END:VEVENT
BEGIN:VEVENT
DTSTART;TZID=America/New_York:20261013T100000
DTEND;TZID=America/New_York:20261013T110000
DTSTAMP:20260419T222530
CREATED:20250707T215440Z
LAST-MODIFIED:20260205T115033Z
UID:10000225-1791885600-1791889200@thesailingmuseum.org
SUMMARY:Sensory Friendly Hour at The Sailing Museum
DESCRIPTION:Join us for a comfortable and quiet museum visit every other Tuesday morning 10am – 12pm. \nExpect friendly lighting levels and reduced screen sounds to promote a relaxing experience through our exhibition spaces. The hour is intended for people and groups with sensitive sensory processing needs. \nAll visitors and ages are welcome.
URL:https://thesailingmuseum.org/event/sensory-friendly-hour-at-the-sailing-museum/2026-10-13/
LOCATION:The Sailing Museum & National Sailing Hall of Fame\, 365 Thames St.\, Newport\, RI\, 02840\, United States
ATTACH;FMTTYPE=image/png:https://thesailingmuseum.org/wp-content/uploads/2025/07/Screenshot-2025-07-23-at-9.24.44 PM.png
ORGANIZER;CN="The Sailing Museum":MAILTO:info@thesailingmuseum.org
END:VEVENT
BEGIN:VEVENT
DTSTART;TZID=America/New_York:20261020T100000
DTEND;TZID=America/New_York:20261020T110000
DTSTAMP:20260419T222530
CREATED:20250707T215440Z
LAST-MODIFIED:20260205T115033Z
UID:10000226-1792490400-1792494000@thesailingmuseum.org
SUMMARY:Sensory Friendly Hour at The Sailing Museum
DESCRIPTION:Join us for a comfortable and quiet museum visit every other Tuesday morning 10am – 12pm. \nExpect friendly lighting levels and reduced screen sounds to promote a relaxing experience through our exhibition spaces. The hour is intended for people and groups with sensitive sensory processing needs. \nAll visitors and ages are welcome.
URL:https://thesailingmuseum.org/event/sensory-friendly-hour-at-the-sailing-museum/2026-10-20/
LOCATION:The Sailing Museum & National Sailing Hall of Fame\, 365 Thames St.\, Newport\, RI\, 02840\, United States
ATTACH;FMTTYPE=image/png:https://thesailingmuseum.org/wp-content/uploads/2025/07/Screenshot-2025-07-23-at-9.24.44 PM.png
ORGANIZER;CN="The Sailing Museum":MAILTO:info@thesailingmuseum.org
END:VEVENT
BEGIN:VEVENT
DTSTART;TZID=America/New_York:20261027T100000
DTEND;TZID=America/New_York:20261027T110000
DTSTAMP:20260419T222530
CREATED:20250707T215440Z
LAST-MODIFIED:20260205T115033Z
UID:10000227-1793095200-1793098800@thesailingmuseum.org
SUMMARY:Sensory Friendly Hour at The Sailing Museum
DESCRIPTION:Join us for a comfortable and quiet museum visit every other Tuesday morning 10am – 12pm. \nExpect friendly lighting levels and reduced screen sounds to promote a relaxing experience through our exhibition spaces. The hour is intended for people and groups with sensitive sensory processing needs. \nAll visitors and ages are welcome.
URL:https://thesailingmuseum.org/event/sensory-friendly-hour-at-the-sailing-museum/2026-10-27/
LOCATION:The Sailing Museum & National Sailing Hall of Fame\, 365 Thames St.\, Newport\, RI\, 02840\, United States
ATTACH;FMTTYPE=image/png:https://thesailingmuseum.org/wp-content/uploads/2025/07/Screenshot-2025-07-23-at-9.24.44 PM.png
ORGANIZER;CN="The Sailing Museum":MAILTO:info@thesailingmuseum.org
END:VEVENT
BEGIN:VEVENT
DTSTART;TZID=America/New_York:20261103T100000
DTEND;TZID=America/New_York:20261103T110000
DTSTAMP:20260419T222530
CREATED:20250707T215440Z
LAST-MODIFIED:20260205T115033Z
UID:10000228-1793700000-1793703600@thesailingmuseum.org
SUMMARY:Sensory Friendly Hour at The Sailing Museum
DESCRIPTION:Join us for a comfortable and quiet museum visit every other Tuesday morning 10am – 12pm. \nExpect friendly lighting levels and reduced screen sounds to promote a relaxing experience through our exhibition spaces. The hour is intended for people and groups with sensitive sensory processing needs. \nAll visitors and ages are welcome.
URL:https://thesailingmuseum.org/event/sensory-friendly-hour-at-the-sailing-museum/2026-11-03/
LOCATION:The Sailing Museum & National Sailing Hall of Fame\, 365 Thames St.\, Newport\, RI\, 02840\, United States
ATTACH;FMTTYPE=image/png:https://thesailingmuseum.org/wp-content/uploads/2025/07/Screenshot-2025-07-23-at-9.24.44 PM.png
ORGANIZER;CN="The Sailing Museum":MAILTO:info@thesailingmuseum.org
END:VEVENT
END:VCALENDAR